BEGIN:VCALENDAR
VERSION:2.0
PRODID:-//Cambridgeshire Geological Society - ECPv6.15.17.1//NONSGML v1.0//EN
CALSCALE:GREGORIAN
METHOD:PUBLISH
X-WR-CALNAME:Cambridgeshire Geological Society
X-ORIGINAL-URL:https://www.cambsgeology.org
X-WR-CALDESC:Events for Cambridgeshire Geological Society
REFRESH-INTERVAL;VALUE=DURATION:PT1H
X-Robots-Tag:noindex
X-PUBLISHED-TTL:PT1H
BEGIN:VTIMEZONE
TZID:Europe/London
BEGIN:DAYLIGHT
TZOFFSETFROM:+0000
TZOFFSETTO:+0100
TZNAME:BST
DTSTART:20250330T010000
END:DAYLIGHT
BEGIN:STANDARD
TZOFFSETFROM:+0100
TZOFFSETTO:+0000
TZNAME:GMT
DTSTART:20251026T010000
END:STANDARD
BEGIN:DAYLIGHT
TZOFFSETFROM:+0000
TZOFFSETTO:+0100
TZNAME:BST
DTSTART:20260329T010000
END:DAYLIGHT
BEGIN:STANDARD
TZOFFSETFROM:+0100
TZOFFSETTO:+0000
TZNAME:GMT
DTSTART:20261025T010000
END:STANDARD
BEGIN:DAYLIGHT
TZOFFSETFROM:+0000
TZOFFSETTO:+0100
TZNAME:BST
DTSTART:20270328T010000
END:DAYLIGHT
BEGIN:STANDARD
TZOFFSETFROM:+0100
TZOFFSETTO:+0000
TZNAME:GMT
DTSTART:20271031T010000
END:STANDARD
BEGIN:DAYLIGHT
TZOFFSETFROM:+0000
TZOFFSETTO:+0100
TZNAME:BST
DTSTART:20280326T010000
END:DAYLIGHT
BEGIN:STANDARD
TZOFFSETFROM:+0100
TZOFFSETTO:+0000
TZNAME:GMT
DTSTART:20281029T010000
END:STANDARD
END:VTIMEZONE
BEGIN:VEVENT
DTSTART;TZID=Europe/London:20260608T190000
DTEND;TZID=Europe/London:20260608T203000
DTSTAMP:20260420T094935
CREATED:20260407T124006Z
LAST-MODIFIED:20260418T085643Z
UID:4035-1780945200-1780950600@www.cambsgeology.org
SUMMARY:A Brickmaker's Tale
DESCRIPTION:Tony Bulmer will talk about his specialist brick company\, The Bulmer Brick and Tile Company near Sudbury. \nBrick making is listed as ‘endangered’ by the Heritage Craft Red List\, despite having a huge role in our historic built environment. Join us for an introduction to the process of hand-brickmaking as performed at Bulmer Brick and Tile\, a family-run traditional brickyard on the Suffolk-Essex border. We will follow this by exploring how the craft has contributed to various repair and restoration projects around East Anglia\, and how these projects have themselves expanded our understanding of the process and history of hand-brickmaking. \n[Photographs courtesy of Jessie-Anita Photography]
URL:https://www.cambsgeology.org/event/a-brickmakers-tale
LOCATION:St Andrew’s Centre\, School Hill\, Histon\, CB24 9JE
ATTACH;FMTTYPE=image/webp:https://www.cambsgeology.org/wp-content/uploads/2026/04/IMG_3491-scaled.webp
END:VEVENT
BEGIN:VEVENT
DTSTART;VALUE=DATE:20260907
DTEND;VALUE=DATE:20270608
DTSTAMP:20260420T094935
CREATED:20260313T112251Z
LAST-MODIFIED:20260314T162121Z
UID:3947-1788739200-1812412799@www.cambsgeology.org
SUMMARY:2026 - 2027 Season of Talks
DESCRIPTION:
URL:https://www.cambsgeology.org/event/2026-2027-season-of-talks
LOCATION:St Andrew’s Centre\, School Hill\, Histon\, CB24 9JE
ATTACH;FMTTYPE=image/webp:https://www.cambsgeology.org/wp-content/uploads/2026/03/cambs-geo-logo-mobile.webp
END:VEVENT
BEGIN:VEVENT
DTSTART;TZID=Europe/London:20260907T190000
DTEND;TZID=Europe/London:20260907T210000
DTSTAMP:20260420T094935
CREATED:20260314T151913Z
LAST-MODIFIED:20260314T153329Z
UID:3961-1788807600-1788814800@www.cambsgeology.org
SUMMARY:Dominic Davey - Edward Charlesworth: Geologist\, Controversialist
DESCRIPTION:
URL:https://www.cambsgeology.org/event/dominic-davey-edward-charlesworth-geologist-controversialist
LOCATION:St Andrew’s Centre\, School Hill\, Histon\, CB24 9JE
ATTACH;FMTTYPE=image/webp:https://www.cambsgeology.org/wp-content/uploads/2026/03/Edward-Charlesworth-1813-1893.webp
END:VEVENT
BEGIN:VEVENT
DTSTART;TZID=Europe/London:20261109T190000
DTEND;TZID=Europe/London:20261109T210000
DTSTAMP:20260420T094935
CREATED:20260314T153302Z
LAST-MODIFIED:20260314T162331Z
UID:3964-1794250800-1794258000@www.cambsgeology.org
SUMMARY:Professor Marian Holness - The Trinity Cobbles\, a Story of Plate Tectonics
DESCRIPTION:
URL:https://www.cambsgeology.org/event/professor-marian-holness-the-trinity-cobbles-a-story-of-plate-tectonics
LOCATION:St Andrew’s Centre\, School Hill\, Histon\, CB24 9JE
ATTACH;FMTTYPE=image/webp:https://www.cambsgeology.org/wp-content/uploads/2026/03/Trinity-Cobbles.webp
END:VEVENT
END:VCALENDAR